BEGIN:VCALENDAR
VERSION:2.0
PRODID:-//Queer Steglitz-Zehlendorf - ECPv6.15.20//NONSGML v1.0//EN
CALSCALE:GREGORIAN
METHOD:PUBLISH
X-WR-CALNAME:Queer Steglitz-Zehlendorf
X-ORIGINAL-URL:https://queer-steglitz-zehlendorf.de
X-WR-CALDESC:Veranstaltungen für Queer Steglitz-Zehlendorf
REFRESH-INTERVAL;VALUE=DURATION:PT1H
X-Robots-Tag:noindex
X-PUBLISHED-TTL:PT1H
BEGIN:VTIMEZONE
TZID:Europe/Berlin
BEGIN:DAYLIGHT
TZOFFSETFROM:+0100
TZOFFSETTO:+0200
TZNAME:CEST
DTSTART:20240331T010000
END:DAYLIGHT
BEGIN:STANDARD
TZOFFSETFROM:+0200
TZOFFSETTO:+0100
TZNAME:CET
DTSTART:20241027T010000
END:STANDARD
BEGIN:DAYLIGHT
TZOFFSETFROM:+0100
TZOFFSETTO:+0200
TZNAME:CEST
DTSTART:20250330T010000
END:DAYLIGHT
BEGIN:STANDARD
TZOFFSETFROM:+0200
TZOFFSETTO:+0100
TZNAME:CET
DTSTART:20251026T010000
END:STANDARD
BEGIN:DAYLIGHT
TZOFFSETFROM:+0100
TZOFFSETTO:+0200
TZNAME:CEST
DTSTART:20260329T010000
END:DAYLIGHT
BEGIN:STANDARD
TZOFFSETFROM:+0200
TZOFFSETTO:+0100
TZNAME:CET
DTSTART:20261025T010000
END:STANDARD
END:VTIMEZONE
BEGIN:VEVENT
DTSTART;TZID=Europe/Berlin:20251118T193000
DTEND;TZID=Europe/Berlin:20251118T210000
DTSTAMP:20260424T135131
CREATED:20251022T170448Z
LAST-MODIFIED:20251022T170720Z
UID:1195-1763494200-1763499600@queer-steglitz-zehlendorf.de
SUMMARY:"Ich tanze nun mal nicht gerne Standard" Lesung mit Caspar Gutsche
DESCRIPTION:„Ich tanze nun mal nicht gerne Standard“ erzählt die Lebensgeschichte einer unangepassten jungen lesbischen Frau aus der DDR\, die sich aus Mangel an Vorbildern ein eigenes Universum schafft. Ein unterhaltsamer Roman\, nicht ohne biografische Anklänge und einer der wenigen\, die mit einer gewissen Leichtigkeit auf das Leben in der DDR zurückblicken. Kommt gerne in Scharen und zeigen wir\, dass es in Steglitz/Zehlendorf eine vielschichtige Community gibt. \nMeldet euch gerne bei Caspar Gutsche per E-Mail: caspar.gutsche@berlin.de
URL:https://queer-steglitz-zehlendorf.de/termin/ich-tanze-nun-mal-nicht-gerne-standard-lesung-mit-caspar-gutsche/
LOCATION:Buchhandlung Braun & Hassenflug\, Fischerhüttenstraße 79\, Berlin\, 14163\, Germany
CATEGORIES:All Ages,Event,Freizeit,Lesung
END:VEVENT
END:VCALENDAR