BEGIN:VCALENDAR
VERSION:2.0
PRODID:-//Queer Steglitz-Zehlendorf - ECPv6.15.20//NONSGML v1.0//EN
CALSCALE:GREGORIAN
METHOD:PUBLISH
X-WR-CALNAME:Queer Steglitz-Zehlendorf
X-ORIGINAL-URL:https://queer-steglitz-zehlendorf.de
X-WR-CALDESC:Veranstaltungen für Queer Steglitz-Zehlendorf
REFRESH-INTERVAL;VALUE=DURATION:PT1H
X-Robots-Tag:noindex
X-PUBLISHED-TTL:PT1H
BEGIN:VTIMEZONE
TZID:Europe/Berlin
BEGIN:DAYLIGHT
TZOFFSETFROM:+0100
TZOFFSETTO:+0200
TZNAME:CEST
DTSTART:20250330T010000
END:DAYLIGHT
BEGIN:STANDARD
TZOFFSETFROM:+0200
TZOFFSETTO:+0100
TZNAME:CET
DTSTART:20251026T010000
END:STANDARD
BEGIN:DAYLIGHT
TZOFFSETFROM:+0100
TZOFFSETTO:+0200
TZNAME:CEST
DTSTART:20260329T010000
END:DAYLIGHT
BEGIN:STANDARD
TZOFFSETFROM:+0200
TZOFFSETTO:+0100
TZNAME:CET
DTSTART:20261025T010000
END:STANDARD
BEGIN:DAYLIGHT
TZOFFSETFROM:+0100
TZOFFSETTO:+0200
TZNAME:CEST
DTSTART:20270328T010000
END:DAYLIGHT
BEGIN:STANDARD
TZOFFSETFROM:+0200
TZOFFSETTO:+0100
TZNAME:CET
DTSTART:20271031T010000
END:STANDARD
END:VTIMEZONE
BEGIN:VEVENT
DTSTART;TZID=Europe/Berlin:20260601T160000
DTEND;TZID=Europe/Berlin:20260601T200000
DTSTAMP:20260424T122943
CREATED:20260212T164620Z
LAST-MODIFIED:20260212T164822Z
UID:1536-1780329600-1780344000@queer-steglitz-zehlendorf.de
SUMMARY:Q Zephir's Queerspace: Treffpunkt für junge Queers & TIN* Personen
DESCRIPTION:Q Zephir’s Queerspace ist ein Freizeittreff für junge Menschen zwischen 12 und 24 Jahren\, die sich als queer oder LGBTQIA* identifizieren und auch für solche\, die sich noch nicht ganz sicher sind. \nQ bietet einen wertschätzenden Raum\, um sich zu treffen\, auszutauschen\, Kontakte zu knüpfen\, einfach nur (da) zu sein. \nAngebote und Aktivitäten gestalten wir gemeinsam. Bei Redebedarf steht Connie (sie/ihr) zur Verfügung. Sie vermittelt auch Kontakte zu Beratungsangeboten. \nMelde dich telefonisch unter 0176 21 44 42 24 oder per E-Mail: queerspace@zephir-ggmbh.de \n\nZielgruppe: LGBTQIA* Personen zwischen 12 und 24 Jahren \nSprachen: Deutsch\, Englisch \n\nVeranstaltungsort & Barrierefreiheit \n\nBeeinträchtigte Mobilität: \nLeider (noch) nicht rollstuhlgerecht \n\nNeurodivergenz: \nReizarmer Raum\, Licht dimmbar \n\nGender: \nAll Gender Toiletten\, TIN* geschultes Personal
URL:https://queer-steglitz-zehlendorf.de/termin/q-zephirs-queerspace-treffpunkt-fuer-junge-queers-tin-personen-38/
LOCATION:Zephir gGmbH\, Anhaltiner Str. 7\, Berlin\, 14163\, Germany
CATEGORIES:Freizeit,Jugend
END:VEVENT
BEGIN:VEVENT
DTSTART;TZID=Europe/Berlin:20260602T140000
DTEND;TZID=Europe/Berlin:20260602T180000
DTSTAMP:20260424T122943
CREATED:20260212T112439Z
LAST-MODIFIED:20260212T112706Z
UID:1380-1780408800-1780423200@queer-steglitz-zehlendorf.de
SUMMARY:Offene Sprechstunde und Beratung für queere Jugendliche
DESCRIPTION:Jeden 1. und 3. Dienstag im Monat von 14:00 – 18:00 Uhr kannst du alles was dich beschäftigt und bewegt im Safe space offen uns mit uns besprechen. Die Gespräche finden vertraulich statt\, alles was wir besprechen bleibt im Raum. Schreib uns doch kurz wenn du kommen magst auf qlub@outreach.berlin oder auf WhatsApp : 015164691925 Selina (sie/ihr) oder 01516493845 Linda (sie/ihr). \nFalls der Tag bei dir nicht passt\, du aber trotzdem Gesprächsbedarf hast\, kontaktiere uns und dann finden wir eine Lösung für einen anderen Tag. Das Angebot richtet sich an Personen zwischen 12 und 27 Jahren. \n\nZielgruppe: Queere Jugendliche \nSprachen: Deutsch\, Englisch \n\nVeranstaltungsort & Barrierefreiheit \n\nBeeinträchtigte Mobilität: \nRollstuhlgerechter Eingang
URL:https://queer-steglitz-zehlendorf.de/termin/offene-sprechstunde-und-beratung-fuer-queere-jugendliche-13/
LOCATION:JFE Flemming\, Paulsenstraße 22\, Berlin\, 12163\, Germany
CATEGORIES:Beratung,Jugend
END:VEVENT
BEGIN:VEVENT
DTSTART;TZID=Europe/Berlin:20260602T160000
DTEND;TZID=Europe/Berlin:20260602T180000
DTSTAMP:20260424T122943
CREATED:20260212T123519Z
LAST-MODIFIED:20260212T123843Z
UID:1410-1780416000-1780423200@queer-steglitz-zehlendorf.de
SUMMARY:Q*lern – Offene Lerngruppe
DESCRIPTION:In der Jugendfreizeiteinrichtung Flemmingstraße im Untergeschoss gibt es die Offene Lerngruppe für queere Jugendliche und Friends zwischen 12 und 27 Jahren. Gemeinsam lernen\, sich gegenseitig unterstützen\, Fragen stellen und Wissen teilen. Ein Raum für euch zum Lernen – so\, wie ihr ihn braucht. Einfach vorbeikommen! \nBei Rückfragen meldet euch gerne bei Selina (sie/ihr) per E-Mail qlub@outreach.berlin \n\nZielgruppe: Queere Jugendliche \nSprachen: Deutsch\, Englisch \n\nVeranstaltungsort & Barrierefreiheit \n\nBeeinträchtigte Mobilität: \nDer Ort ist aktuell leider nicht barrierefrei zugänglich
URL:https://queer-steglitz-zehlendorf.de/termin/qlern-offene-lerngruppe-7/
LOCATION:JFE Flemming\, Paulsenstraße 22\, Berlin\, 12163\, Germany
CATEGORIES:Jugend,Lerngruppe
END:VEVENT
BEGIN:VEVENT
DTSTART;TZID=Europe/Berlin:20260603T140000
DTEND;TZID=Europe/Berlin:20260603T180000
DTSTAMP:20260424T122943
CREATED:20260212T134731Z
LAST-MODIFIED:20260212T134744Z
UID:1444-1780495200-1780509600@queer-steglitz-zehlendorf.de
SUMMARY:Q*lub Steglitz-Zehlendorf
DESCRIPTION:Offenes Treffen für Queere Jugendliche und Friends in Steglitz Zehlendorf zwischen 12 und 27 Jahren.\nJeden Mittwoch treffen wir uns im Q*lub Raum in der Nähe des Rathaus Steglitz\, um gemeinsam kreativ zu sein\, abzuhängen\, sich auszutauschen oder Ausflüge zu planen. Die Aktivitäten werden gemeinsam als Gruppe festgelegt und richten sich nach euren Wünschen. Jeden Mittwoch von 14:00 – 18:00 Uhr. Meldet euch gerne bei Selina (sie/ihr) per E-Mail: \nqlub@outreach.berlin \n\nZielgruppe: Queers & Allys \nSprachen: Deutsch & Englisch \n\nVeranstaltungsort & Barrierefreiheit \n\nBeeinträchtigte Mobilität: \nRollstuhlgerechter Eingang \n\nGender: \nTIN* geschultes Personal\, Informationen in geschlechtersensibler Sprache
URL:https://queer-steglitz-zehlendorf.de/termin/qlub-steglitz-zehlendorf-39/
LOCATION:JFE Flemming\, Paulsenstraße 22\, Berlin\, 12163\, Germany
CATEGORIES:Freizeit,Jugend
END:VEVENT
BEGIN:VEVENT
DTSTART;TZID=Europe/Berlin:20260604T160000
DTEND;TZID=Europe/Berlin:20260604T200000
DTSTAMP:20260424T122943
CREATED:20260212T164655Z
LAST-MODIFIED:20260212T164831Z
UID:1537-1780588800-1780603200@queer-steglitz-zehlendorf.de
SUMMARY:Q Zephir's Queerspace: Treffpunkt für junge Queers & TIN* Personen
DESCRIPTION:Q Zephir’s Queerspace ist ein Freizeittreff für junge Menschen zwischen 12 und 24 Jahren\, die sich als queer oder LGBTQIA* identifizieren und auch für solche\, die sich noch nicht ganz sicher sind. \nQ bietet einen wertschätzenden Raum\, um sich zu treffen\, auszutauschen\, Kontakte zu knüpfen\, einfach nur (da) zu sein. \nAngebote und Aktivitäten gestalten wir gemeinsam. Bei Redebedarf steht Connie (sie/ihr) zur Verfügung. Sie vermittelt auch Kontakte zu Beratungsangeboten. \nMelde dich telefonisch unter 0176 21 44 42 24 oder per E-Mail: queerspace@zephir-ggmbh.de \n\nZielgruppe: LGBTQIA* Personen zwischen 12 und 24 Jahren \nSprachen: Deutsch\, Englisch \n\nVeranstaltungsort & Barrierefreiheit \n\nBeeinträchtigte Mobilität: \nLeider (noch) nicht rollstuhlgerecht \n\nNeurodivergenz: \nReizarmer Raum\, Licht dimmbar \n\nGender: \nAll Gender Toiletten\, TIN* geschultes Personal
URL:https://queer-steglitz-zehlendorf.de/termin/q-zephirs-queerspace-treffpunkt-fuer-junge-queers-tin-personen-39/
LOCATION:Zephir gGmbH\, Anhaltiner Str. 7\, Berlin\, 14163\, Germany
CATEGORIES:Freizeit,Jugend
END:VEVENT
BEGIN:VEVENT
DTSTART;TZID=Europe/Berlin:20260608T160000
DTEND;TZID=Europe/Berlin:20260608T200000
DTSTAMP:20260424T122943
CREATED:20260212T164718Z
LAST-MODIFIED:20260212T164842Z
UID:1538-1780934400-1780948800@queer-steglitz-zehlendorf.de
SUMMARY:Q Zephir's Queerspace: Treffpunkt für junge Queers & TIN* Personen
DESCRIPTION:Q Zephir’s Queerspace ist ein Freizeittreff für junge Menschen zwischen 12 und 24 Jahren\, die sich als queer oder LGBTQIA* identifizieren und auch für solche\, die sich noch nicht ganz sicher sind. \nQ bietet einen wertschätzenden Raum\, um sich zu treffen\, auszutauschen\, Kontakte zu knüpfen\, einfach nur (da) zu sein. \nAngebote und Aktivitäten gestalten wir gemeinsam. Bei Redebedarf steht Connie (sie/ihr) zur Verfügung. Sie vermittelt auch Kontakte zu Beratungsangeboten. \nMelde dich telefonisch unter 0176 21 44 42 24 oder per E-Mail: queerspace@zephir-ggmbh.de \n\nZielgruppe: LGBTQIA* Personen zwischen 12 und 24 Jahren \nSprachen: Deutsch\, Englisch \n\nVeranstaltungsort & Barrierefreiheit \n\nBeeinträchtigte Mobilität: \nLeider (noch) nicht rollstuhlgerecht \n\nNeurodivergenz: \nReizarmer Raum\, Licht dimmbar \n\nGender: \nAll Gender Toiletten\, TIN* geschultes Personal
URL:https://queer-steglitz-zehlendorf.de/termin/q-zephirs-queerspace-treffpunkt-fuer-junge-queers-tin-personen-40/
LOCATION:Zephir gGmbH\, Anhaltiner Str. 7\, Berlin\, 14163\, Germany
CATEGORIES:Freizeit,Jugend
END:VEVENT
BEGIN:VEVENT
DTSTART;TZID=Europe/Berlin:20260610T140000
DTEND;TZID=Europe/Berlin:20260610T180000
DTSTAMP:20260424T122943
CREATED:20260212T134530Z
LAST-MODIFIED:20260212T134751Z
UID:1445-1781100000-1781114400@queer-steglitz-zehlendorf.de
SUMMARY:Q*lub Steglitz-Zehlendorf
DESCRIPTION:Offenes Treffen für Queere Jugendliche und Friends in Steglitz Zehlendorf zwischen 12 und 27 Jahren.\nJeden Mittwoch treffen wir uns im Q*lub Raum in der Nähe des Rathaus Steglitz\, um gemeinsam kreativ zu sein\, abzuhängen\, sich auszutauschen oder Ausflüge zu planen. Die Aktivitäten werden gemeinsam als Gruppe festgelegt und richten sich nach euren Wünschen. Jeden Mittwoch von 14:00 – 18:00 Uhr. Meldet euch gerne bei Selina (sie/ihr) per E-Mail: \nqlub@outreach.berlin \n\nZielgruppe: Queers & Allys \nSprachen: Deutsch & Englisch \n\nVeranstaltungsort & Barrierefreiheit \n\nBeeinträchtigte Mobilität: \nRollstuhlgerechter Eingang \n\nGender: \nTIN* geschultes Personal\, Informationen in geschlechtersensibler Sprache
URL:https://queer-steglitz-zehlendorf.de/termin/qlub-steglitz-zehlendorf-38/
LOCATION:JFE Flemming\, Paulsenstraße 22\, Berlin\, 12163\, Germany
CATEGORIES:Freizeit,Jugend
END:VEVENT
BEGIN:VEVENT
DTSTART;TZID=Europe/Berlin:20260611T160000
DTEND;TZID=Europe/Berlin:20260611T200000
DTSTAMP:20260424T122943
CREATED:20260212T164747Z
LAST-MODIFIED:20260212T165916Z
UID:1539-1781193600-1781208000@queer-steglitz-zehlendorf.de
SUMMARY:Q Zephir's Queerspace: Treffpunkt für junge Queers & TIN* Personen
DESCRIPTION:Q Zephir’s Queerspace ist ein Freizeittreff für junge Menschen zwischen 12 und 24 Jahren\, die sich als queer oder LGBTQIA* identifizieren und auch für solche\, die sich noch nicht ganz sicher sind. \nQ bietet einen wertschätzenden Raum\, um sich zu treffen\, auszutauschen\, Kontakte zu knüpfen\, einfach nur (da) zu sein. \nAngebote und Aktivitäten gestalten wir gemeinsam. Bei Redebedarf steht Connie (sie/ihr) zur Verfügung. Sie vermittelt auch Kontakte zu Beratungsangeboten. \nMelde dich telefonisch unter 0176 21 44 42 24 oder per E-Mail: queerspace@zephir-ggmbh.de \n\nZielgruppe: LGBTQIA* Personen zwischen 12 und 24 Jahren \nSprachen: Deutsch\, Englisch \n\nVeranstaltungsort & Barrierefreiheit \n\nBeeinträchtigte Mobilität: \nLeider (noch) nicht rollstuhlgerecht \n\nNeurodivergenz: \nReizarmer Raum\, Licht dimmbar \n\nGender: \nAll Gender Toiletten\, TIN* geschultes Personal
URL:https://queer-steglitz-zehlendorf.de/termin/q-zephirs-queerspace-treffpunkt-fuer-junge-queers-tin-personen-41/
LOCATION:Zephir gGmbH\, Anhaltiner Str. 7\, Berlin\, 14163\, Germany
CATEGORIES:Freizeit,Jugend
END:VEVENT
BEGIN:VEVENT
DTSTART;TZID=Europe/Berlin:20260615T160000
DTEND;TZID=Europe/Berlin:20260615T200000
DTSTAMP:20260424T122943
CREATED:20260212T165542Z
LAST-MODIFIED:20260212T165928Z
UID:1544-1781539200-1781553600@queer-steglitz-zehlendorf.de
SUMMARY:Q Zephir's Queerspace: Treffpunkt für junge Queers & TIN* Personen
DESCRIPTION:Q Zephir’s Queerspace ist ein Freizeittreff für junge Menschen zwischen 12 und 24 Jahren\, die sich als queer oder LGBTQIA* identifizieren und auch für solche\, die sich noch nicht ganz sicher sind. \nQ bietet einen wertschätzenden Raum\, um sich zu treffen\, auszutauschen\, Kontakte zu knüpfen\, einfach nur (da) zu sein. \nAngebote und Aktivitäten gestalten wir gemeinsam. Bei Redebedarf steht Connie (sie/ihr) zur Verfügung. Sie vermittelt auch Kontakte zu Beratungsangeboten. \nMelde dich telefonisch unter 0176 21 44 42 24 oder per E-Mail: queerspace@zephir-ggmbh.de \n\nZielgruppe: LGBTQIA* Personen zwischen 12 und 24 Jahren \nSprachen: Deutsch\, Englisch \n\nVeranstaltungsort & Barrierefreiheit \n\nBeeinträchtigte Mobilität: \nLeider (noch) nicht rollstuhlgerecht \n\nNeurodivergenz: \nReizarmer Raum\, Licht dimmbar \n\nGender: \nAll Gender Toiletten\, TIN* geschultes Personal
URL:https://queer-steglitz-zehlendorf.de/termin/q-zephirs-queerspace-treffpunkt-fuer-junge-queers-tin-personen-42/
LOCATION:Zephir gGmbH\, Anhaltiner Str. 7\, Berlin\, 14163\, Germany
CATEGORIES:Freizeit,Jugend
END:VEVENT
BEGIN:VEVENT
DTSTART;TZID=Europe/Berlin:20260616T140000
DTEND;TZID=Europe/Berlin:20260616T180000
DTSTAMP:20260424T122943
CREATED:20260212T112650Z
LAST-MODIFIED:20260212T112715Z
UID:1382-1781618400-1781632800@queer-steglitz-zehlendorf.de
SUMMARY:Offene Sprechstunde und Beratung für queere Jugendliche
DESCRIPTION:Jeden 1. und 3. Dienstag im Monat von 14:00 – 18:00 Uhr kannst du alles was dich beschäftigt und bewegt im Safe space offen uns mit uns besprechen. Die Gespräche finden vertraulich statt\, alles was wir besprechen bleibt im Raum. Schreib uns doch kurz wenn du kommen magst auf qlub@outreach.berlin oder auf WhatsApp : 015164691925 Selina (sie/ihr) oder 01516493845 Linda (sie/ihr). \nFalls der Tag bei dir nicht passt\, du aber trotzdem Gesprächsbedarf hast\, kontaktiere uns und dann finden wir eine Lösung für einen anderen Tag. Das Angebot richtet sich an Personen zwischen 12 und 27 Jahren. \n\nZielgruppe: Queere Jugendliche \nSprachen: Deutsch\, Englisch \n\nVeranstaltungsort & Barrierefreiheit \n\nBeeinträchtigte Mobilität: \nRollstuhlgerechter Eingang
URL:https://queer-steglitz-zehlendorf.de/termin/offene-sprechstunde-und-beratung-fuer-queere-jugendliche-14/
LOCATION:JFE Flemming\, Paulsenstraße 22\, Berlin\, 12163\, Germany
CATEGORIES:Beratung,Jugend
END:VEVENT
BEGIN:VEVENT
DTSTART;TZID=Europe/Berlin:20260616T160000
DTEND;TZID=Europe/Berlin:20260616T180000
DTSTAMP:20260424T122943
CREATED:20260212T123827Z
LAST-MODIFIED:20260212T123911Z
UID:1412-1781625600-1781632800@queer-steglitz-zehlendorf.de
SUMMARY:Q*lern – Offene Lerngruppe
DESCRIPTION:In der Jugendfreizeiteinrichtung Flemmingstraße im Untergeschoss gibt es die Offene Lerngruppe für queere Jugendliche und Friends zwischen 12 und 27 Jahren. Gemeinsam lernen\, sich gegenseitig unterstützen\, Fragen stellen und Wissen teilen. Ein Raum für euch zum Lernen – so\, wie ihr ihn braucht. Einfach vorbeikommen! \nBei Rückfragen meldet euch gerne bei Selina (sie/ihr) per E-Mail qlub@outreach.berlin \n\nZielgruppe: Queere Jugendliche \nSprachen: Deutsch\, Englisch \n\nVeranstaltungsort & Barrierefreiheit \n\nBeeinträchtigte Mobilität: \nDer Ort ist aktuell leider nicht barrierefrei zugänglich
URL:https://queer-steglitz-zehlendorf.de/termin/qlern-offene-lerngruppe-8/
LOCATION:JFE Flemming\, Paulsenstraße 22\, Berlin\, 12163\, Germany
CATEGORIES:Jugend,Lerngruppe
END:VEVENT
BEGIN:VEVENT
DTSTART;TZID=Europe/Berlin:20260617T140000
DTEND;TZID=Europe/Berlin:20260617T180000
DTSTAMP:20260424T122943
CREATED:20260212T134449Z
LAST-MODIFIED:20260212T134758Z
UID:1446-1781704800-1781719200@queer-steglitz-zehlendorf.de
SUMMARY:Q*lub Steglitz-Zehlendorf
DESCRIPTION:Offenes Treffen für Queere Jugendliche und Friends in Steglitz Zehlendorf zwischen 12 und 27 Jahren.\nJeden Mittwoch treffen wir uns im Q*lub Raum in der Nähe des Rathaus Steglitz\, um gemeinsam kreativ zu sein\, abzuhängen\, sich auszutauschen oder Ausflüge zu planen. Die Aktivitäten werden gemeinsam als Gruppe festgelegt und richten sich nach euren Wünschen. Jeden Mittwoch von 14:00 – 18:00 Uhr. Meldet euch gerne bei Selina (sie/ihr) per E-Mail: \nqlub@outreach.berlin \n\nZielgruppe: Queers & Allys \nSprachen: Deutsch & Englisch \n\nVeranstaltungsort & Barrierefreiheit \n\nBeeinträchtigte Mobilität: \nRollstuhlgerechter Eingang \n\nGender: \nTIN* geschultes Personal\, Informationen in geschlechtersensibler Sprache
URL:https://queer-steglitz-zehlendorf.de/termin/qlub-steglitz-zehlendorf-37/
LOCATION:JFE Flemming\, Paulsenstraße 22\, Berlin\, 12163\, Germany
CATEGORIES:Freizeit,Jugend
END:VEVENT
BEGIN:VEVENT
DTSTART;TZID=Europe/Berlin:20260618T160000
DTEND;TZID=Europe/Berlin:20260618T200000
DTSTAMP:20260424T122943
CREATED:20260212T165755Z
LAST-MODIFIED:20260212T165939Z
UID:1545-1781798400-1781812800@queer-steglitz-zehlendorf.de
SUMMARY:Q Zephir's Queerspace: Treffpunkt für junge Queers & TIN* Personen
DESCRIPTION:Q Zephir’s Queerspace ist ein Freizeittreff für junge Menschen zwischen 12 und 24 Jahren\, die sich als queer oder LGBTQIA* identifizieren und auch für solche\, die sich noch nicht ganz sicher sind. \nQ bietet einen wertschätzenden Raum\, um sich zu treffen\, auszutauschen\, Kontakte zu knüpfen\, einfach nur (da) zu sein. \nAngebote und Aktivitäten gestalten wir gemeinsam. Bei Redebedarf steht Connie (sie/ihr) zur Verfügung. Sie vermittelt auch Kontakte zu Beratungsangeboten. \nMelde dich telefonisch unter 0176 21 44 42 24 oder per E-Mail: queerspace@zephir-ggmbh.de \n\nZielgruppe: LGBTQIA* Personen zwischen 12 und 24 Jahren \nSprachen: Deutsch\, Englisch \n\nVeranstaltungsort & Barrierefreiheit \n\nBeeinträchtigte Mobilität: \nLeider (noch) nicht rollstuhlgerecht \n\nNeurodivergenz: \nReizarmer Raum\, Licht dimmbar \n\nGender: \nAll Gender Toiletten\, TIN* geschultes Personal
URL:https://queer-steglitz-zehlendorf.de/termin/q-zephirs-queerspace-treffpunkt-fuer-junge-queers-tin-personen-44/
LOCATION:Zephir gGmbH\, Anhaltiner Str. 7\, Berlin\, 14163\, Germany
CATEGORIES:Freizeit,Jugend
END:VEVENT
BEGIN:VEVENT
DTSTART;TZID=Europe/Berlin:20260622T160000
DTEND;TZID=Europe/Berlin:20260622T200000
DTSTAMP:20260424T122943
CREATED:20260212T165746Z
LAST-MODIFIED:20260212T165947Z
UID:1546-1782144000-1782158400@queer-steglitz-zehlendorf.de
SUMMARY:Q Zephir's Queerspace: Treffpunkt für junge Queers & TIN* Personen
DESCRIPTION:Q Zephir’s Queerspace ist ein Freizeittreff für junge Menschen zwischen 12 und 24 Jahren\, die sich als queer oder LGBTQIA* identifizieren und auch für solche\, die sich noch nicht ganz sicher sind. \nQ bietet einen wertschätzenden Raum\, um sich zu treffen\, auszutauschen\, Kontakte zu knüpfen\, einfach nur (da) zu sein. \nAngebote und Aktivitäten gestalten wir gemeinsam. Bei Redebedarf steht Connie (sie/ihr) zur Verfügung. Sie vermittelt auch Kontakte zu Beratungsangeboten. \nMelde dich telefonisch unter 0176 21 44 42 24 oder per E-Mail: queerspace@zephir-ggmbh.de \n\nZielgruppe: LGBTQIA* Personen zwischen 12 und 24 Jahren \nSprachen: Deutsch\, Englisch \n\nVeranstaltungsort & Barrierefreiheit \n\nBeeinträchtigte Mobilität: \nLeider (noch) nicht rollstuhlgerecht \n\nNeurodivergenz: \nReizarmer Raum\, Licht dimmbar \n\nGender: \nAll Gender Toiletten\, TIN* geschultes Personal
URL:https://queer-steglitz-zehlendorf.de/termin/q-zephirs-queerspace-treffpunkt-fuer-junge-queers-tin-personen-43/
LOCATION:Zephir gGmbH\, Anhaltiner Str. 7\, Berlin\, 14163\, Germany
CATEGORIES:Freizeit,Jugend
END:VEVENT
BEGIN:VEVENT
DTSTART;TZID=Europe/Berlin:20260624T140000
DTEND;TZID=Europe/Berlin:20260624T180000
DTSTAMP:20260424T122943
CREATED:20260212T134423Z
LAST-MODIFIED:20260212T134810Z
UID:1447-1782309600-1782324000@queer-steglitz-zehlendorf.de
SUMMARY:Q*lub Steglitz-Zehlendorf
DESCRIPTION:Offenes Treffen für Queere Jugendliche und Friends in Steglitz Zehlendorf zwischen 12 und 27 Jahren.\nJeden Mittwoch treffen wir uns im Q*lub Raum in der Nähe des Rathaus Steglitz\, um gemeinsam kreativ zu sein\, abzuhängen\, sich auszutauschen oder Ausflüge zu planen. Die Aktivitäten werden gemeinsam als Gruppe festgelegt und richten sich nach euren Wünschen. Jeden Mittwoch von 14:00 – 18:00 Uhr. Meldet euch gerne bei Selina (sie/ihr) per E-Mail: \nqlub@outreach.berlin \n\nZielgruppe: Queers & Allys \nSprachen: Deutsch & Englisch \n\nVeranstaltungsort & Barrierefreiheit \n\nBeeinträchtigte Mobilität: \nRollstuhlgerechter Eingang \n\nGender: \nTIN* geschultes Personal\, Informationen in geschlechtersensibler Sprache
URL:https://queer-steglitz-zehlendorf.de/termin/qlub-steglitz-zehlendorf-36/
LOCATION:JFE Flemming\, Paulsenstraße 22\, Berlin\, 12163\, Germany
CATEGORIES:Freizeit,Jugend
END:VEVENT
BEGIN:VEVENT
DTSTART;TZID=Europe/Berlin:20260625T160000
DTEND;TZID=Europe/Berlin:20260625T200000
DTSTAMP:20260424T122943
CREATED:20260212T165835Z
LAST-MODIFIED:20260212T170009Z
UID:1547-1782403200-1782417600@queer-steglitz-zehlendorf.de
SUMMARY:Q Zephir's Queerspace: Treffpunkt für junge Queers & TIN* Personen
DESCRIPTION:Q Zephir’s Queerspace ist ein Freizeittreff für junge Menschen zwischen 12 und 24 Jahren\, die sich als queer oder LGBTQIA* identifizieren und auch für solche\, die sich noch nicht ganz sicher sind. \nQ bietet einen wertschätzenden Raum\, um sich zu treffen\, auszutauschen\, Kontakte zu knüpfen\, einfach nur (da) zu sein. \nAngebote und Aktivitäten gestalten wir gemeinsam. Bei Redebedarf steht Connie (sie/ihr) zur Verfügung. Sie vermittelt auch Kontakte zu Beratungsangeboten. \nMelde dich telefonisch unter 0176 21 44 42 24 oder per E-Mail: queerspace@zephir-ggmbh.de \n\nZielgruppe: LGBTQIA* Personen zwischen 12 und 24 Jahren \nSprachen: Deutsch\, Englisch \n\nVeranstaltungsort & Barrierefreiheit \n\nBeeinträchtigte Mobilität: \nLeider (noch) nicht rollstuhlgerecht \n\nNeurodivergenz: \nReizarmer Raum\, Licht dimmbar \n\nGender: \nAll Gender Toiletten\, TIN* geschultes Personal
URL:https://queer-steglitz-zehlendorf.de/termin/q-zephirs-queerspace-treffpunkt-fuer-junge-queers-tin-personen-45/
LOCATION:Zephir gGmbH\, Anhaltiner Str. 7\, Berlin\, 14163\, Germany
CATEGORIES:Freizeit,Jugend
END:VEVENT
BEGIN:VEVENT
DTSTART;TZID=Europe/Berlin:20260629T160000
DTEND;TZID=Europe/Berlin:20260629T200000
DTSTAMP:20260424T122943
CREATED:20260212T165903Z
LAST-MODIFIED:20260212T170021Z
UID:1548-1782748800-1782763200@queer-steglitz-zehlendorf.de
SUMMARY:Q Zephir's Queerspace: Treffpunkt für junge Queers & TIN* Personen
DESCRIPTION:Q Zephir’s Queerspace ist ein Freizeittreff für junge Menschen zwischen 12 und 24 Jahren\, die sich als queer oder LGBTQIA* identifizieren und auch für solche\, die sich noch nicht ganz sicher sind. \nQ bietet einen wertschätzenden Raum\, um sich zu treffen\, auszutauschen\, Kontakte zu knüpfen\, einfach nur (da) zu sein. \nAngebote und Aktivitäten gestalten wir gemeinsam. Bei Redebedarf steht Connie (sie/ihr) zur Verfügung. Sie vermittelt auch Kontakte zu Beratungsangeboten. \nMelde dich telefonisch unter 0176 21 44 42 24 oder per E-Mail: queerspace@zephir-ggmbh.de \n\nZielgruppe: LGBTQIA* Personen zwischen 12 und 24 Jahren \nSprachen: Deutsch\, Englisch \n\nVeranstaltungsort & Barrierefreiheit \n\nBeeinträchtigte Mobilität: \nLeider (noch) nicht rollstuhlgerecht \n\nNeurodivergenz: \nReizarmer Raum\, Licht dimmbar \n\nGender: \nAll Gender Toiletten\, TIN* geschultes Personal
URL:https://queer-steglitz-zehlendorf.de/termin/q-zephirs-queerspace-treffpunkt-fuer-junge-queers-tin-personen-46/
LOCATION:Zephir gGmbH\, Anhaltiner Str. 7\, Berlin\, 14163\, Germany
CATEGORIES:Freizeit,Jugend
END:VEVENT
BEGIN:VEVENT
DTSTART;TZID=Europe/Berlin:20260630T140000
DTEND;TZID=Europe/Berlin:20260630T170000
DTSTAMP:20260424T122943
CREATED:20260212T115611Z
LAST-MODIFIED:20260212T120346Z
UID:1394-1782828000-1782838800@queer-steglitz-zehlendorf.de
SUMMARY:Button DIY Q*lub: Kreativ\, bunt und sichtbar – queerer Treffpunkt für Jugendliche
DESCRIPTION:In der Ingeborg-Drewitz-Bibliothek trifft sich seit August 2025\, einmal im Monat das Projekt Q*lub. Das Angebot richtet sich an queere Jugendliche und Friends zwischen 12 und 27 Jahren. Hier können eigenen Buttons gestaltet und mitgenommen werden\, sowie ein Raum für Selbstentfaltung\, Austausch und Empowerment gegeben werden. Buttons sind klein und rund – und können ein starkes Statement setzen. \nBei Rückfragen meldet euch gerne bei Selina (sie/ihr) per Telefon unter 015164691925 oder E-Mail qlub@outreach.berlin \n\nZielgruppe: Queere Jugendliche & Friends \nSprachen: Deutsch\, Englisch \n\nVeranstaltungsort & Barrierefreiheit \nBeeinträchtigste Mobilität: \nRollstuhlgerechter Eingang\, Barrierefreie Toiletten
URL:https://queer-steglitz-zehlendorf.de/termin/button-diy-qlub-kreativ-bunt-und-sichtbar-queerer-treffpunkt-fuer-jugendliche-6/
LOCATION:Ingeborg-Drewitz-Bibliothek\, Grunewaldstraße 3/3\, Berlin\, 12165\, Germany
CATEGORIES:Event,Freizeit,Jugend
END:VEVENT
END:VCALENDAR