BEGIN:VCALENDAR
VERSION:2.0
PRODID:-//Queer Steglitz-Zehlendorf - ECPv6.15.20//NONSGML v1.0//EN
CALSCALE:GREGORIAN
METHOD:PUBLISH
X-ORIGINAL-URL:https://queer-steglitz-zehlendorf.de
X-WR-CALDESC:Veranstaltungen für Queer Steglitz-Zehlendorf
REFRESH-INTERVAL;VALUE=DURATION:PT1H
X-Robots-Tag:noindex
X-PUBLISHED-TTL:PT1H
BEGIN:VTIMEZONE
TZID:Europe/Berlin
BEGIN:DAYLIGHT
TZOFFSETFROM:+0100
TZOFFSETTO:+0200
TZNAME:CEST
DTSTART:20240331T010000
END:DAYLIGHT
BEGIN:STANDARD
TZOFFSETFROM:+0200
TZOFFSETTO:+0100
TZNAME:CET
DTSTART:20241027T010000
END:STANDARD
BEGIN:DAYLIGHT
TZOFFSETFROM:+0100
TZOFFSETTO:+0200
TZNAME:CEST
DTSTART:20250330T010000
END:DAYLIGHT
BEGIN:STANDARD
TZOFFSETFROM:+0200
TZOFFSETTO:+0100
TZNAME:CET
DTSTART:20251026T010000
END:STANDARD
BEGIN:DAYLIGHT
TZOFFSETFROM:+0100
TZOFFSETTO:+0200
TZNAME:CEST
DTSTART:20260329T010000
END:DAYLIGHT
BEGIN:STANDARD
TZOFFSETFROM:+0200
TZOFFSETTO:+0100
TZNAME:CET
DTSTART:20261025T010000
END:STANDARD
END:VTIMEZONE
BEGIN:VEVENT
DTSTART;TZID=Europe/Berlin:20251001T140000
DTEND;TZID=Europe/Berlin:20251001T190000
DTSTAMP:20260424T103813
CREATED:20250724T191528Z
LAST-MODIFIED:20250724T191528Z
UID:685-1759327200-1759345200@queer-steglitz-zehlendorf.de
SUMMARY:Q*lub Steglitz-Zehlendorf
DESCRIPTION:Offenes Treffen für Queere Jugendliche und Friends in Steglitz Zehlendorf.\nJeden Mittwoch treffen wir uns im Q*lub Raum in der Nähe des Rathaus Steglitz\, um gemeinsam kreativ zu sein\, abzuhängen\, sich auszutauschen oder Ausflüge zu planen. Die Aktivitäten werden gemeinsam als Gruppe festgelegt und richten sich nach euren Wünschen. Jeden Mittwoch von 14:00 – 19:00 Uhr. Meldet euch gerne bei Linda Lucy Hofmann per E-Mail: \nqlub@outreach.berlin \n\nZielgruppe: Queers & Allys \nSprachen: Deutsch & Englisch \n  \n\nVeranstaltungsort & Barrierefreiheit \n\nBeeinträchtigte Mobilität: \nRollstuhlgerechter Eingang \n\nGender: \nTIN* geschultes Personal\, Informationen in geschlechtersensibler Sprache
URL:https://queer-steglitz-zehlendorf.de/termin/qlub-steglitz-zehlendorf-9/
LOCATION:JFE Flemming\, Paulsenstraße 22\, Berlin\, 12163\, Germany
CATEGORIES:Freizeit,Jugend
END:VEVENT
BEGIN:VEVENT
DTSTART;TZID=Europe/Berlin:20251007T140000
DTEND;TZID=Europe/Berlin:20251007T170000
DTSTAMP:20260424T103813
CREATED:20251003T101420Z
LAST-MODIFIED:20251003T110932Z
UID:1123-1759845600-1759856400@queer-steglitz-zehlendorf.de
SUMMARY:Offene Sprechstunde und Beratung für queere Jugendliche
DESCRIPTION:Jeden 1. und 3. Dienstag im Monat von 14:00 – 17:00 Uhr kannst du alles was dich beschäftigt und bewegt im Safe space offen uns mit uns besprechen. Die Gespräche finden vertraulich statt\, alles was wir besprechen bleibt im Raum. Schreib uns doch kurz wenn du kommen magst auf qlub@outreach.berlin oder auf WhatsApp : 01516493845 Linda (sie/ihr) oder 015164691925 Selina (sie/ihr). \nFalls der Tag bei dir nicht passt\, du aber trotzdem Gesprächsbedarf hast\, kontaktiere uns und dann finden wir eine Lösung für einen anderen Tag. Das Angebot richtet sich an Personen zwischen 12 und 27 Jahren. \n\nZielgruppe: Queere Jugendliche \nSprachen: Deutsch\, Englisch \n\nVeranstaltungsort & Barrierefreiheit \n\nBeeinträchtigte Mobilität: \nRollstuhlgerechter Eingang
URL:https://queer-steglitz-zehlendorf.de/termin/offene-sprechstunde-und-beratung-fuer-queere-jugendliche/
LOCATION:JFE Flemming\, Paulsenstraße 22\, Berlin\, 12163\, Germany
CATEGORIES:Beratung,Jugend
END:VEVENT
BEGIN:VEVENT
DTSTART;TZID=Europe/Berlin:20251008T140000
DTEND;TZID=Europe/Berlin:20251008T190000
DTSTAMP:20260424T103813
CREATED:20250724T191646Z
LAST-MODIFIED:20251003T111130Z
UID:687-1759932000-1759950000@queer-steglitz-zehlendorf.de
SUMMARY:Q*lub Steglitz-Zehlendorf
DESCRIPTION:Offenes Treffen für Queere Jugendliche und Friends in Steglitz Zehlendorf.\nJeden Mittwoch treffen wir uns im Q*lub Raum in der Nähe des Rathaus Steglitz\, um gemeinsam kreativ zu sein\, abzuhängen\, sich auszutauschen oder Ausflüge zu planen. Die Aktivitäten werden gemeinsam als Gruppe festgelegt und richten sich nach euren Wünschen. Jeden Mittwoch von 14:00 – 19:00 Uhr. Meldet euch gerne bei Linda Lucy Hofmann per E-Mail: \nqlub@outreach.berlin \n\nZielgruppe: Queers & Allys \nSprachen: Deutsch & Englisch \n\nVeranstaltungsort & Barrierefreiheit \n\nBeeinträchtigte Mobilität: \nRollstuhlgerechter Eingang \n\nGender: \nTIN* geschultes Personal\, Informationen in geschlechtersensibler Sprache
URL:https://queer-steglitz-zehlendorf.de/termin/qlub-steglitz-zehlendorf-10/
LOCATION:JFE Flemming\, Paulsenstraße 22\, Berlin\, 12163\, Germany
CATEGORIES:Freizeit,Jugend
END:VEVENT
BEGIN:VEVENT
DTSTART;TZID=Europe/Berlin:20251015T140000
DTEND;TZID=Europe/Berlin:20251015T190000
DTSTAMP:20260424T103813
CREATED:20250724T192007Z
LAST-MODIFIED:20251003T111234Z
UID:689-1760536800-1760554800@queer-steglitz-zehlendorf.de
SUMMARY:Q*lub Steglitz-Zehlendorf
DESCRIPTION:Offenes Treffen für Queere Jugendliche und Friends in Steglitz Zehlendorf.\nJeden Mittwoch treffen wir uns im Q*lub Raum in der Nähe des Rathaus Steglitz\, um gemeinsam kreativ zu sein\, abzuhängen\, sich auszutauschen oder Ausflüge zu planen. Die Aktivitäten werden gemeinsam als Gruppe festgelegt und richten sich nach euren Wünschen. Jeden Mittwoch von 14:00 – 19:00 Uhr. Meldet euch gerne bei Linda Lucy Hofmann per E-Mail: \nqlub@outreach.berlin \n\nZielgruppe: Queers & Allys \nSprachen: Deutsch & Englisch \n\nVeranstaltungsort & Barrierefreiheit \n\nBeeinträchtigte Mobilität: \nRollstuhlgerechter Eingang \n\nGender: \nTIN* geschultes Personal\, Informationen in geschlechtersensibler Sprache
URL:https://queer-steglitz-zehlendorf.de/termin/qlub-steglitz-zehlendorf-11/
LOCATION:JFE Flemming\, Paulsenstraße 22\, Berlin\, 12163\, Germany
CATEGORIES:Freizeit,Jugend
END:VEVENT
BEGIN:VEVENT
DTSTART;TZID=Europe/Berlin:20251021T140000
DTEND;TZID=Europe/Berlin:20251021T170000
DTSTAMP:20260424T103813
CREATED:20251003T101745Z
LAST-MODIFIED:20251003T111606Z
UID:1127-1761055200-1761066000@queer-steglitz-zehlendorf.de
SUMMARY:Offene Sprechstunde und Beratung für queere Jugendliche
DESCRIPTION:Jeden 1. und 3. Dienstag im Monat von 14:00 – 17:00 Uhr kannst du alles was dich beschäftigt und bewegt im Safe space offen uns mit uns besprechen. Die Gespräche finden vertraulich statt\, alles was wir besprechen bleibt im Raum. Schreib uns doch kurz wenn du kommen magst auf qlub@outreach.berlin oder auf WhatsApp : 01516493845 Linda (sie/ihr) oder 015164691925 Selina (sie/ihr). \nFalls der Tag bei dir nicht passt\, du aber trotzdem Gesprächsbedarf hast\, kontaktiere uns und dann finden wir eine Lösung für einen anderen Tag. Das Angebot richtet sich an Personen zwischen 12 und 27 Jahren. \n\nZielgruppe: Queere Jugendliche \nSprachen: Deutsch\, Englisch \n\nVeranstaltungsort & Barrierefreiheit \n\nBeeinträchtigte Mobilität: \nRollstuhlgerechter Eingang
URL:https://queer-steglitz-zehlendorf.de/termin/1127/
LOCATION:JFE Flemming\, Paulsenstraße 22\, Berlin\, 12163\, Germany
CATEGORIES:Beratung,Jugend
END:VEVENT
BEGIN:VEVENT
DTSTART;TZID=Europe/Berlin:20251022T140000
DTEND;TZID=Europe/Berlin:20251022T190000
DTSTAMP:20260424T103813
CREATED:20250724T192131Z
LAST-MODIFIED:20251003T111951Z
UID:692-1761141600-1761159600@queer-steglitz-zehlendorf.de
SUMMARY:Q*lub Steglitz-Zehlendorf
DESCRIPTION:Offenes Treffen für Queere Jugendliche und Friends in Steglitz Zehlendorf.\nJeden Mittwoch treffen wir uns im Q*lub Raum in der Nähe des Rathaus Steglitz\, um gemeinsam kreativ zu sein\, abzuhängen\, sich auszutauschen oder Ausflüge zu planen. Die Aktivitäten werden gemeinsam als Gruppe festgelegt und richten sich nach euren Wünschen. Jeden Mittwoch von 14:00 – 19:00 Uhr. Meldet euch gerne bei Linda Lucy Hofmann per E-Mail: \nqlub@outreach.berlin \n\nZielgruppe: Queers & Allys \nSprachen: Deutsch & Englisch \n\nVeranstaltungsort & Barrierefreiheit \n\nBeeinträchtigte Mobilität: \nRollstuhlgerechter Eingang \n\nGender: \nTIN* geschultes Personal\, Informationen in geschlechtersensibler Sprache
URL:https://queer-steglitz-zehlendorf.de/termin/qlub-steglitz-zehlendorf-12/
LOCATION:JFE Flemming\, Paulsenstraße 22\, Berlin\, 12163\, Germany
CATEGORIES:Freizeit,Jugend
END:VEVENT
BEGIN:VEVENT
DTSTART;TZID=Europe/Berlin:20251023T160000
DTEND;TZID=Europe/Berlin:20251023T201500
DTSTAMP:20260424T103813
CREATED:20251022T183617Z
LAST-MODIFIED:20251023T163208Z
UID:1223-1761235200-1761250500@queer-steglitz-zehlendorf.de
SUMMARY:Q Zephir's Queerspace: Treffpunkt für junge Queers & TIN* Personen
DESCRIPTION:Q Zephir’s Queerspace ist ein Freizeittreff für junge Menschen zwischen 12 und 21 Jahren\, die sich als queer oder LGBTQIA+ identifizieren und auch für solche\, die sich noch nicht ganz sicher sind. \nQ bietet einen wertschätzenden Raum\, um sich zu treffen\, auszutauschen\, Kontakte zu knüpfen\, einfach nur (da) zu sein. \nAngebote und Aktivitäten gestalten wir gemeinsam. Bei Redebedarf steht Connie (sie/ihr) zur Verfügung. Sie vermittelt auch Kontakte zu Beratungsangeboten. \nMelde dich telefonisch unter 0176 21 44 42 24 oder per E-Mail: queerspace@zephir-ggmbh.de \n\nZielgruppe: LGBTQIA* Personen zwischen 12 und 21 Jahren \nSprachen: Deutsch\, Englisch \n\nVeranstaltungsort & Barrierefreiheit \n\nBeeinträchtigte Mobilität: \nLeider (noch) nicht rollstuhlgerecht \n\nNeurodivergenz: \nReizarmer Raum\, Licht dimmbar \n\nGender: \nAll Gender Toiletten
URL:https://queer-steglitz-zehlendorf.de/termin/q-zephirs-queerspace-treffpunkt-fuer-junge-queers-tin-personen/
LOCATION:Zephir gGmbH\, Anhaltiner Str. 7\, Berlin\, 14163\, Germany
CATEGORIES:Beratung,Community Building,Freizeit,Jugend
END:VEVENT
BEGIN:VEVENT
DTSTART;TZID=Europe/Berlin:20251028T140000
DTEND;TZID=Europe/Berlin:20251028T170000
DTSTAMP:20260424T103813
CREATED:20251003T110037Z
LAST-MODIFIED:20251003T110325Z
UID:1144-1761660000-1761670800@queer-steglitz-zehlendorf.de
SUMMARY:Button DIY Q*lub: Kreativ\, bunt und sichtbar – queerer Treffpunkt für Jugendliche
DESCRIPTION:In der Ingeborg-Drewitz-Bibliothek trifft sich seit August 2025\, einmal im Monat das Projekt Q*lub. Das Angebot richtet sich an queere Jugendliche und Friends. Hier können eigenen Buttons gestaltet und mitgenommen werden\, sowie ein Raum für Selbstentfaltung\, Austausch und Empowerment gegeben werden. Buttons sind klein und rund – und können ein starkes Statement setzen. \nBei Rückfragen meldet euch gerne bei Linda (sie/ihr) per Telefon unter 015751447368 oder E-Mail qlub@outreach.berlin \n\nZielgruppe: Queere Jugendliche & Friends \nSprachen: Deutsch\, Englisch \n\nVeranstaltungsort & Barrierefreiheit \nBeeinträchtigste Mobilität: \nRollstuhlgerechter Eingang\, Barrierefreie Toiletten
URL:https://queer-steglitz-zehlendorf.de/termin/button-diy-qlub-kreativ-bunt-und-sichtbar-queerer-treffpunkt-fuer-jugendliche/
LOCATION:Ingeborg-Drewitz-Bibliothek\, Grunewaldstraße 3/3\, Berlin\, 12165\, Germany
CATEGORIES:Event,Freizeit,Jugend
END:VEVENT
BEGIN:VEVENT
DTSTART;TZID=Europe/Berlin:20251029T140000
DTEND;TZID=Europe/Berlin:20251029T190000
DTSTAMP:20260424T103813
CREATED:20250724T192240Z
LAST-MODIFIED:20251003T112132Z
UID:694-1761746400-1761764400@queer-steglitz-zehlendorf.de
SUMMARY:Q*lub Steglitz-Zehlendorf
DESCRIPTION:Offenes Treffen für Queere Jugendliche und Friends in Steglitz Zehlendorf.\nJeden Mittwoch treffen wir uns im Q*lub Raum in der Nähe des Rathaus Steglitz\, um gemeinsam kreativ zu sein\, abzuhängen\, sich auszutauschen oder Ausflüge zu planen. Die Aktivitäten werden gemeinsam als Gruppe festgelegt und richten sich nach euren Wünschen. Jeden Mittwoch von 14:00 – 19:00 Uhr. Meldet euch gerne bei Linda Lucy Hofmann per E-Mail: \nqlub@outreach.berlin \n\nZielgruppe: Queers & Allys \nSprachen: Deutsch & Englisch \n\nVeranstaltungsort & Barrierefreiheit \n\nBeeinträchtigte Mobilität: \nRollstuhlgerechter Eingang \n\nGender: \nTIN* geschultes Personal\, Informationen in geschlechtersensibler Sprache
URL:https://queer-steglitz-zehlendorf.de/termin/qlub-steglitz-zehlendorf-13/
LOCATION:JFE Flemming\, Paulsenstraße 22\, Berlin\, 12163\, Germany
CATEGORIES:Freizeit,Jugend
END:VEVENT
BEGIN:VEVENT
DTSTART;TZID=Europe/Berlin:20251030T160000
DTEND;TZID=Europe/Berlin:20251030T190000
DTSTAMP:20260424T103813
CREATED:20251009T173629Z
LAST-MODIFIED:20251009T175230Z
UID:1183-1761840000-1761850800@queer-steglitz-zehlendorf.de
SUMMARY:Create & Print\, queer Sticker T-Shirts & Linoldruck
DESCRIPTION:Drag & Drop the system\, mit dem Projekt wollen wir einen Raum schaffen\, indem wir gemeinsam mit Humor\, Kunst und kreativen Mitteln einen Ausdruck des Protests schaffen\, der verbindet und sichtbar macht. Die Workshops sind kostenlos für Queens und Friends zwischen 14 und 27 Jahren in Kooperation mit verschiedenen Einrichtungen in Berlin. Die Workshopreihe findet in ganz Berlin mit verschiedenen Workshops statt. Meldet euch bei Linda Hoffmann (sie/ihr) per E-Mail: l.hofmann@outreach.berlin oder Telefon 015751447368. \n\nZielgruppe: LGBTQIA* & Friends (von 14 bis 27 Jahren) \nSprachen: Deutsch\, Englisch \n\nVeranstaltungsort & Barrierefreiheit \n\nBeeinträchtigte Mobilität: rollstuhlgerechter Eingang \nGender: TIN*geschultes Personal \n 
URL:https://queer-steglitz-zehlendorf.de/termin/create-print-queer-sticker-t-shirts-linoldruck/
LOCATION:JFE Flemming\, Paulsenstraße 22\, Berlin\, 12163\, Germany
CATEGORIES:Event,Freizeit,Jugend,Workshop
END:VEVENT
BEGIN:VEVENT
DTSTART;TZID=Europe/Berlin:20251031T160000
DTEND;TZID=Europe/Berlin:20251031T201500
DTSTAMP:20260424T103813
CREATED:20251023T162540Z
LAST-MODIFIED:20251023T163820Z
UID:1232-1761926400-1761941700@queer-steglitz-zehlendorf.de
SUMMARY:Halloweenparty bei Q Zephir's Queerspace: Treffpunkt für junge Queers & TIN* Personen
DESCRIPTION:Q Zephir’s Queerspace ist ein Freizeittreff für junge Menschen zwischen 12 und 21 Jahren\, die sich als queer oder LGBTQIA+ identifizieren und auch für solche\, die sich noch nicht ganz sicher sind. Q bietet einen wertschätzenden Raum\, um sich zu treffen\, auszutauschen\, Kontakte zu knüpfen\, einfach nur (da) zu sein. \nDiesmal ausnahmeweise am Freitag\, 31.10.2025! Mit unserer schaurig-schönen Deko\, die wir in den letzten Wochen zusammen gebastelt haben\, schmücken wir die Räume von Q in der Anhaltinerstraße. Und dann wird Halloween gefeiert\, die gruseligste Nacht des Jahres. \nWenn du Lust hast\, dann verkleide dich und bring alle deine Freude mit. Connie (sie/ihr) freut sich auf euch! \nMelde dich telefonisch unter 0176 21 44 42 24 oder per E-Mail: queerspace@zephir-ggmbh.de \n\nZielgruppe: LGBTQIA* Personen zwischen 12 und 21 Jahren \nSprachen: Deutsch\, Englisch \n\nVeranstaltungsort & Barrierefreiheit \n\nBeeinträchtigte Mobilität: \nLeider (noch) nicht rollstuhlgerecht
URL:https://queer-steglitz-zehlendorf.de/termin/halloweenparty-bei-q-zephirs-queerspace-treffpunkt-fuer-junge-queers-tin-personen/
LOCATION:Zephir gGmbH\, Anhaltiner Str. 7\, Berlin\, 14163\, Germany
CATEGORIES:Event,Freizeit,Jugend
END:VEVENT
END:VCALENDAR