BEGIN:VCALENDAR
VERSION:2.0
PRODID:-//Queer Steglitz-Zehlendorf - ECPv6.15.20//NONSGML v1.0//EN
CALSCALE:GREGORIAN
METHOD:PUBLISH
X-ORIGINAL-URL:https://queer-steglitz-zehlendorf.de
X-WR-CALDESC:Veranstaltungen für Queer Steglitz-Zehlendorf
REFRESH-INTERVAL;VALUE=DURATION:PT1H
X-Robots-Tag:noindex
X-PUBLISHED-TTL:PT1H
BEGIN:VTIMEZONE
TZID:Europe/Berlin
BEGIN:DAYLIGHT
TZOFFSETFROM:+0100
TZOFFSETTO:+0200
TZNAME:CEST
DTSTART:20240331T010000
END:DAYLIGHT
BEGIN:STANDARD
TZOFFSETFROM:+0200
TZOFFSETTO:+0100
TZNAME:CET
DTSTART:20241027T010000
END:STANDARD
BEGIN:DAYLIGHT
TZOFFSETFROM:+0100
TZOFFSETTO:+0200
TZNAME:CEST
DTSTART:20250330T010000
END:DAYLIGHT
BEGIN:STANDARD
TZOFFSETFROM:+0200
TZOFFSETTO:+0100
TZNAME:CET
DTSTART:20251026T010000
END:STANDARD
BEGIN:DAYLIGHT
TZOFFSETFROM:+0100
TZOFFSETTO:+0200
TZNAME:CEST
DTSTART:20260329T010000
END:DAYLIGHT
BEGIN:STANDARD
TZOFFSETFROM:+0200
TZOFFSETTO:+0100
TZNAME:CET
DTSTART:20261025T010000
END:STANDARD
END:VTIMEZONE
BEGIN:VEVENT
DTSTART;TZID=Europe/Berlin:20251107T160000
DTEND;TZID=Europe/Berlin:20251107T180000
DTSTAMP:20260424T122728
CREATED:20251022T174840Z
LAST-MODIFIED:20251022T174840Z
UID:1211-1762531200-1762538400@queer-steglitz-zehlendorf.de
SUMMARY:Sprachcafé Villa Mittelhof (queer-inklusiv)
DESCRIPTION:Im Sprachcafé begegnen sich queere und nicht queere Menschen\, um Deutsch zu lernen\, miteinander Deutsch zu sprechen und gegenseitig voneinander zu lernen. Hier treffen geflüchtete und zugewanderte Menschen auf deutschsprachige Menschen und lernen sich unkompliziert und auf Augenhöhe kennen. Es gibt kostenfrei Kaffee/Tee und Kuchen/Kekse. Die Ehrenamtlichen vor Ort sind LSBTQIA*-geschult. Meldet euch telefonisch unter 030 80197545 oder per E-Mail bei Susanne Strätz: straetz@mittelhof.org \n\nZielgruppe: (queere) Menschen mit Flucht- oder Zuwanderungshintergrund \nSprachen: alle Sprachen sind willkommen \n\nVeranstaltungsort & Barrierefreiheit \n\nBeeinträchtigte Mobilität: \nweitgehend barrierefrei
URL:https://queer-steglitz-zehlendorf.de/termin/sprachcafe-villa-mittelhof-queer-inklusiv-3/
LOCATION:Café der Villa Mittelhof\, Königstr. 42-43\, Berlin\, 14163\, Germany
CATEGORIES:All Ages,Freizeit,Geflüchtete,Sprachcafé,Zugewanderte
END:VEVENT
BEGIN:VEVENT
DTSTART;TZID=Europe/Berlin:20251112T170000
DTEND;TZID=Europe/Berlin:20251112T190000
DTSTAMP:20260424T122728
CREATED:20250716T200257Z
LAST-MODIFIED:20251003T112602Z
UID:351-1762966800-1762974000@queer-steglitz-zehlendorf.de
SUMMARY:Queer Café im Gutshaus Lichterfelde
DESCRIPTION:Wir treffen uns mittwochs ab 17 Uhr alle zwei Wochen im Gutshaus Lichterfelde\, um uns in angenehmer Atmosphäre kennenzulernen\, auszutauschen und gegenseitig zu bestärken. Wir möchten Raum bieten für alle\, die sich jenseits von Konventionen und Zwängen auszuprobieren möchten und dabei keine Angst vor Neuem haben. Ein Ort\, an dem wir uns und unsere Queerness feiern aber bei Bedarf auch mal über Sorgen und Unsicherheiten im Alltag sprechen können. Egal ob Picknick im Park\, Spieleabend oder einfach Quatschen bei Kaffee und Kuchen\, alles ist möglich. Lasst uns den Raum gemeinsam gestalten! Eingeladen sind alle\, die sich mit Queer identifizieren können. Trans\, inter und non-binäre Personen sind ausdrücklich willkommen. Auch auf Personen\, die Ausgrenzung aufgrund ihrer Herkunft\, Behinderung und ihres Aussehens erfahren\, freuen wir uns. Trau dich und komm vorbei! \nKontaktperson: Charlie (er/ihn) \nE-Mail: Queer_steglitz_zehlendorf@yahoo.com \n\nVeranstaltungsort & Barrierefreiheit \n\nBeeinträchtigte Mobilität: \nFlügeltür am Eingang lässt sich so öffnen\, dass Rollstühle hindurchpassen. Am besten bitte vorne klingeln\, da die Eingangstür schwer aufgeht. Rampen für Türschwellen sind vorhanden. Die WCs sind rollstuhlgerecht umgebaut worden. \n\nBeeinträchtigtes Sehen: \nBlindenführhunde sind ausdrücklich erlaubt\, obwohl Hunde allgemein bitte draußen bleiben sollten. \n\nNeurodivergenz: \nRückzugsräume sind vorhanden. \n\nGastronomie: \nVegane und vegetarische Speisen können – wie andere Speisen auch – mitgebracht werden. Alkohol und alkoholhaltige Speisen sind hingegen nicht erwünscht. \n\nGender: \nDie Sanitäranlagen im Gutshaus sind genderneutral.
URL:https://queer-steglitz-zehlendorf.de/termin/queer-cafe-im-gutshaus-lichterfelde-6/
LOCATION:Gutshaus Lichterfelde\, Hindenburgdamm 28\, Berlin\, 12203\, Germany
CATEGORIES:All Ages,Freizeit
ORGANIZER;CN="Queer Caf%C3%A9":MAILTO:queer.steglitz.zehlendorf@gmail.com
END:VEVENT
BEGIN:VEVENT
DTSTART;TZID=Europe/Berlin:20251114T130000
DTEND;TZID=Europe/Berlin:20251114T190000
DTSTAMP:20260424T122728
CREATED:20251109T172638Z
LAST-MODIFIED:20251109T172733Z
UID:1254-1763125200-1763146800@queer-steglitz-zehlendorf.de
SUMMARY:Lebendige Bibliothek zu LGBTQI*-Leben im Rahmen des 1. Demokratietags in Steglitz-Zehlendorf
DESCRIPTION:Unter dem Motto „Mitmachen\, Mitreden\, Mitgestalten“ lädt das Netzwerk Demokratiebildung zum 1. Demokratietag in die Ingeborg-Drewitz-Bibliothek in Steglitz-Zehlendorf ein. Über 20 lokale Initiativen und Einrichtungen beteiligen sich mit vielseitigen\, partizipativen Angeboten und Aktionen rund um das Thema Demokratie.\nAuf dem Programm stehen eine lebendige Bibliothek zu LGBTQI*-Leben\, ein interkulturelles Sprachcafé für alle\, ein Nachbarschafts-Speeddating\, eine Comic-Ausstellung gegen Antisemitismus\, Rassismus und Hass\, kreative Mitmachformate für alle Altersgruppen und weitere Aktionen. \nBei Rückfragen meldet euch bitte per E-Mail bei Alisa Wieland: info@bidigi.de \n 
URL:https://queer-steglitz-zehlendorf.de/termin/lebendige-bibliothek-zu-lgbtqi-leben-im-rahmen-des-1-demokratietags-in-steglitz-zehlendorf/
LOCATION:Ingeborg-Drewitz-Bibliothek\, Grunewaldstraße 3/3\, Berlin\, 12165\, Germany
CATEGORIES:All Ages,Event,Freizeit,Sprachcafé
ORGANIZER;CN="Netzwerk Demokratiebildung":MAILTO:info@bidigi.de
END:VEVENT
BEGIN:VEVENT
DTSTART;TZID=Europe/Berlin:20251118T160000
DTEND;TZID=Europe/Berlin:20251118T180000
DTSTAMP:20260424T122728
CREATED:20250716T192814Z
LAST-MODIFIED:20251003T112832Z
UID:322-1763481600-1763488800@queer-steglitz-zehlendorf.de
SUMMARY:Runder Tisch Queeres Steglitz-Zehlendorf
DESCRIPTION:Die Angebote im Bezirk\, die sich ausdrücklich an queere Menschen richten\, bekannter machen – das ist unser Ziel. Wir treffen uns meinst dienstags einmal im Monat abwechselnd in Steglitz und in Zehlendorf. Sich austauschen\, vernetzen\, neue Angebote kennenlernen und eigene Ideen einbringen. Interessierte Gäste sind bei uns ebenso willkommen wie Menschen\, die aktiv bei uns mitmachen möchten. Dabei musst du dich nicht selbst als queer oder LSBTQIA* identifizieren\, nur solltest du etwas Zeit\, Gemeinschaftssinn und Offenheit für Neues mitbringen. Bei Fragen melde dich gerne per E-Mail: queer.steglitz.zehlendorf@gmail.com
URL:https://queer-steglitz-zehlendorf.de/termin/runder-tisch-queeres-steglitz-zehlendorf-5/
LOCATION:Maria-Rimkus-Haus\, Gallwitzallee 53\, Berlin\, 12249\, Germany
CATEGORIES:All Ages,Community Building,Vernetzung
ORGANIZER;CN="Runder Tisch Queeres Steglitz-Zehlendorf":MAILTO:queer.steglitz.zehlendorf@gmail.com
END:VEVENT
BEGIN:VEVENT
DTSTART;TZID=Europe/Berlin:20251118T193000
DTEND;TZID=Europe/Berlin:20251118T210000
DTSTAMP:20260424T122728
CREATED:20251022T170448Z
LAST-MODIFIED:20251022T170720Z
UID:1195-1763494200-1763499600@queer-steglitz-zehlendorf.de
SUMMARY:"Ich tanze nun mal nicht gerne Standard" Lesung mit Caspar Gutsche
DESCRIPTION:„Ich tanze nun mal nicht gerne Standard“ erzählt die Lebensgeschichte einer unangepassten jungen lesbischen Frau aus der DDR\, die sich aus Mangel an Vorbildern ein eigenes Universum schafft. Ein unterhaltsamer Roman\, nicht ohne biografische Anklänge und einer der wenigen\, die mit einer gewissen Leichtigkeit auf das Leben in der DDR zurückblicken. Kommt gerne in Scharen und zeigen wir\, dass es in Steglitz/Zehlendorf eine vielschichtige Community gibt. \nMeldet euch gerne bei Caspar Gutsche per E-Mail: caspar.gutsche@berlin.de
URL:https://queer-steglitz-zehlendorf.de/termin/ich-tanze-nun-mal-nicht-gerne-standard-lesung-mit-caspar-gutsche/
LOCATION:Buchhandlung Braun & Hassenflug\, Fischerhüttenstraße 79\, Berlin\, 14163\, Germany
CATEGORIES:All Ages,Event,Freizeit,Lesung
END:VEVENT
BEGIN:VEVENT
DTSTART;TZID=Europe/Berlin:20251121T160000
DTEND;TZID=Europe/Berlin:20251121T180000
DTSTAMP:20260424T122728
CREATED:20251022T175209Z
LAST-MODIFIED:20251022T175209Z
UID:1213-1763740800-1763748000@queer-steglitz-zehlendorf.de
SUMMARY:Sprachcafé Villa Mittelhof (queer-inklusiv)
DESCRIPTION:Im Sprachcafé begegnen sich queere und nicht queere Menschen\, um Deutsch zu lernen\, miteinander Deutsch zu sprechen und gegenseitig voneinander zu lernen. Hier treffen geflüchtete und zugewanderte Menschen auf deutschsprachige Menschen und lernen sich unkompliziert und auf Augenhöhe kennen. Es gibt kostenfrei Kaffee/Tee und Kuchen/Kekse. Die Ehrenamtlichen vor Ort sind LSBTQIA*-geschult. Meldet euch telefonisch unter 030 80197545 oder per E-Mail bei Susanne Strätz: straetz@mittelhof.org \n\nZielgruppe: (queere) Menschen mit Flucht- oder Zuwanderungshintergrund \nSprachen: alle Sprachen sind willkommen \n\nVeranstaltungsort & Barrierefreiheit \n\nBeeinträchtigte Mobilität: \nweitgehend barrierefrei
URL:https://queer-steglitz-zehlendorf.de/termin/sprachcafe-villa-mittelhof-queer-inklusiv-4/
LOCATION:Café der Villa Mittelhof\, Königstr. 42-43\, Berlin\, 14163\, Germany
CATEGORIES:All Ages,Freizeit,Geflüchtete,Sprachcafé,Zugewanderte
END:VEVENT
BEGIN:VEVENT
DTSTART;TZID=Europe/Berlin:20251126T170000
DTEND;TZID=Europe/Berlin:20251126T190000
DTSTAMP:20260424T122728
CREATED:20250716T200405Z
LAST-MODIFIED:20251003T113233Z
UID:353-1764176400-1764183600@queer-steglitz-zehlendorf.de
SUMMARY:Queer Café im Gutshaus Lichterfelde
DESCRIPTION:Wir treffen uns mittwochs ab 17 Uhr alle zwei Wochen im Gutshaus Lichterfelde\, um uns in angenehmer Atmosphäre kennenzulernen\, auszutauschen und gegenseitig zu bestärken. Wir möchten Raum bieten für alle\, die sich jenseits von Konventionen und Zwängen auszuprobieren möchten und dabei keine Angst vor Neuem haben. Ein Ort\, an dem wir uns und unsere Queerness feiern aber bei Bedarf auch mal über Sorgen und Unsicherheiten im Alltag sprechen können. Egal ob Picknick im Park\, Spieleabend oder einfach Quatschen bei Kaffee und Kuchen\, alles ist möglich. Lasst uns den Raum gemeinsam gestalten! Eingeladen sind alle\, die sich mit Queer identifizieren können. Trans\, inter und non-binäre Personen sind ausdrücklich willkommen. Auch auf Personen\, die Ausgrenzung aufgrund ihrer Herkunft\, Behinderung und ihres Aussehens erfahren\, freuen wir uns. Trau dich und komm vorbei! \nKontaktperson: Charlie (er/ihn) \nE-Mail: Queer_steglitz_zehlendorf@yahoo.com \n\nVeranstaltungsort & Barrierefreiheit \n\nBeeinträchtigte Mobilität: \nFlügeltür am Eingang lässt sich so öffnen\, dass Rollstühle hindurchpassen. Am besten bitte vorne klingeln\, da die Eingangstür schwer aufgeht. Rampen für Türschwellen sind vorhanden. Die WCs sind rollstuhlgerecht umgebaut worden. \n\nBeeinträchtigtes Sehen: \nBlindenführhunde sind ausdrücklich erlaubt\, obwohl Hunde allgemein bitte draußen bleiben sollten. \n\nNeurodivergenz: \nRückzugsräume sind vorhanden. \n\nGastronomie: \nVegane und vegetarische Speisen können – wie andere Speisen auch – mitgebracht werden. Alkohol und alkoholhaltige Speisen sind hingegen nicht erwünscht. \n\nGender: \nDie Sanitäranlagen im Gutshaus sind genderneutral.
URL:https://queer-steglitz-zehlendorf.de/termin/queer-cafe-im-gutshaus-lichterfelde-7/
LOCATION:Gutshaus Lichterfelde\, Hindenburgdamm 28\, Berlin\, 12203\, Germany
CATEGORIES:All Ages,Freizeit
ORGANIZER;CN="Queer Caf%C3%A9":MAILTO:queer.steglitz.zehlendorf@gmail.com
END:VEVENT
BEGIN:VEVENT
DTSTART;TZID=Europe/Berlin:20251128T160000
DTEND;TZID=Europe/Berlin:20251128T180000
DTSTAMP:20260424T122728
CREATED:20251022T175508Z
LAST-MODIFIED:20251022T175508Z
UID:1215-1764345600-1764352800@queer-steglitz-zehlendorf.de
SUMMARY:Sprachcafé Villa Mittelhof (queer-inklusiv)
DESCRIPTION:Im Sprachcafé begegnen sich queere und nicht queere Menschen\, um Deutsch zu lernen\, miteinander Deutsch zu sprechen und gegenseitig voneinander zu lernen. Hier treffen geflüchtete und zugewanderte Menschen auf deutschsprachige Menschen und lernen sich unkompliziert und auf Augenhöhe kennen. Es gibt kostenfrei Kaffee/Tee und Kuchen/Kekse. Die Ehrenamtlichen vor Ort sind LSBTQIA*-geschult. Meldet euch telefonisch unter 030 80197545 oder per E-Mail bei Susanne Strätz: straetz@mittelhof.org \n\nZielgruppe: (queere) Menschen mit Flucht- oder Zuwanderungshintergrund \nSprachen: alle Sprachen sind willkommen \n\nVeranstaltungsort & Barrierefreiheit \n\nBeeinträchtigte Mobilität: \nweitgehend barrierefrei
URL:https://queer-steglitz-zehlendorf.de/termin/sprachcafe-villa-mittelhof-queer-inklusiv-5/
LOCATION:Café der Villa Mittelhof\, Königstr. 42-43\, Berlin\, 14163\, Germany
CATEGORIES:All Ages,Freizeit,Geflüchtete,Sprachcafé,Zugewanderte
END:VEVENT
END:VCALENDAR