BEGIN:VCALENDAR
VERSION:2.0
PRODID:-//Queer Steglitz-Zehlendorf - ECPv6.15.20//NONSGML v1.0//EN
CALSCALE:GREGORIAN
METHOD:PUBLISH
X-WR-CALNAME:Queer Steglitz-Zehlendorf
X-ORIGINAL-URL:https://queer-steglitz-zehlendorf.de
X-WR-CALDESC:Veranstaltungen für Queer Steglitz-Zehlendorf
REFRESH-INTERVAL;VALUE=DURATION:PT1H
X-Robots-Tag:noindex
X-PUBLISHED-TTL:PT1H
BEGIN:VTIMEZONE
TZID:Europe/Berlin
BEGIN:DAYLIGHT
TZOFFSETFROM:+0100
TZOFFSETTO:+0200
TZNAME:CEST
DTSTART:20240331T010000
END:DAYLIGHT
BEGIN:STANDARD
TZOFFSETFROM:+0200
TZOFFSETTO:+0100
TZNAME:CET
DTSTART:20241027T010000
END:STANDARD
BEGIN:DAYLIGHT
TZOFFSETFROM:+0100
TZOFFSETTO:+0200
TZNAME:CEST
DTSTART:20250330T010000
END:DAYLIGHT
BEGIN:STANDARD
TZOFFSETFROM:+0200
TZOFFSETTO:+0100
TZNAME:CET
DTSTART:20251026T010000
END:STANDARD
BEGIN:DAYLIGHT
TZOFFSETFROM:+0100
TZOFFSETTO:+0200
TZNAME:CEST
DTSTART:20260329T010000
END:DAYLIGHT
BEGIN:STANDARD
TZOFFSETFROM:+0200
TZOFFSETTO:+0100
TZNAME:CET
DTSTART:20261025T010000
END:STANDARD
END:VTIMEZONE
BEGIN:VEVENT
DTSTART;TZID=Europe/Berlin:20250722T180000
DTEND;TZID=Europe/Berlin:20250722T200000
DTSTAMP:20260424T134717
CREATED:20250716T190353Z
LAST-MODIFIED:20250720T202034Z
UID:308-1753207200-1753214400@queer-steglitz-zehlendorf.de
SUMMARY:Runder Tisch Queeres Steglitz-Zehlendorf Come Together
DESCRIPTION:Die Angebote im Bezirk\, die sich ausdrücklich an queere Menschen richten\, bekannter machen – das ist unser Ziel. Wir treffen uns meinst dienstags einmal im Monat abwechselnd in Steglitz und in Zehlendorf. Sich austauschen\, vernetzen\, neue Angebote kennenlernen und eigene Ideen einbringen. Interessierte Gäste sind bei uns ebenso willkommen wie Menschen\, die aktiv bei uns mitmachen möchten. Dabei musst du dich nicht selbst als queer oder LSBTQIA* identifizieren\, nur solltest du etwas Zeit\, Gemeinschaftssinn und Offenheit für Neues mitbringen. Bei Fragen melde dich gerne per E-Mail: \nqueer.steglitz.zehlendorf@gmail.com \n  \nVeranstaltungsort & Barrierefreiheit \n\nBeeinträchtigte Mobilität: \nFlügeltür am Eingang lässt sich so öffnen\, dass Rollstühle hindurchpassen. Am besten bitte vorne klingeln\, da die Eingangstür schwer aufgeht. Rampen für Türschwellen sind vorhanden. Die WCs sind rollstuhlgerecht umgebaut worden. \n\nBeeinträchtigtes Sehen: \nBlindenführhunde sind ausdrücklich erlaubt\, obwohl Hunde allgemein bitte draußen bleiben sollten. \n\nNeurodivergenz: \nRückzugsräume sind vorhanden. \n\nGastronomie: \nVegane und vegetarische Speisen können – wie andere Speisen auch – mitgebracht werden. Alkohol und alkoholhaltige Speisen sind hingegen nicht erwünscht. \n\nGender: \nDie Sanitäranlagen im Gutshaus sind genderneutral.
URL:https://queer-steglitz-zehlendorf.de/termin/runder-tisch-queeres-steglitz-zehlendorf/
LOCATION:Gutshaus Lichterfelde\, Hindenburgdamm 28\, Berlin\, 12203\, Germany
ORGANIZER;CN="Runder Tisch Queeres Steglitz-Zehlendorf":MAILTO:queer.steglitz.zehlendorf@gmail.com
END:VEVENT
BEGIN:VEVENT
DTSTART;TZID=Europe/Berlin:20250723T170000
DTEND;TZID=Europe/Berlin:20250723T170000
DTSTAMP:20260424T134717
CREATED:20250716T194017Z
LAST-MODIFIED:20250716T194408Z
UID:332-1753290000-1753290000@queer-steglitz-zehlendorf.de
SUMMARY:Queer Café im Gutshaus Lichterfelde
DESCRIPTION:Wir treffen uns mittwochs ab 17 Uhr alle zwei Wochen im Gutshaus Lichterfelde\, um uns in angenehmer Atmosphäre kennenzulernen\, auszutauschen und gegenseitig zu bestärken. Wir möchten Raum bieten für alle\, die sich jenseits von Konventionen und Zwängen auszuprobieren möchten und dabei keine Angst vor Neuem haben. Ein Ort\, an dem wir uns und unsere Queerness feiern aber bei Bedarf auch mal über Sorgen und Unsicherheiten im Alltag sprechen können. Egal ob Picknick im Park\, Spieleabend oder einfach Quatschen bei Kaffee und Kuchen\, alles ist möglich. Lasst uns den Raum gemeinsam gestalten! Eingeladen sind alle\, die sich mit Queer identifizieren können. Trans\, inter und non-binäre Personen sind ausdrücklich willkommen. Auch auf Personen\, die Ausgrenzung aufgrund ihrer Herkunft\, Behinderung und ihres Aussehens erfahren\, freuen wir uns. Trau dich und komm vorbei! \nKontaktperson: Charlie \nE-Mail: Queer_steglitz_zehlendorf@yahoo.com
URL:https://queer-steglitz-zehlendorf.de/termin/332/
LOCATION:Gutshaus Lichterfelde\, Hindenburgdamm 28\, Berlin\, 12203\, Germany
ORGANIZER;CN="Queer Caf%C3%A9":MAILTO:queer.steglitz.zehlendorf@gmail.com
END:VEVENT
BEGIN:VEVENT
DTSTART;TZID=Europe/Berlin:20250730T140000
DTEND;TZID=Europe/Berlin:20250730T190000
DTSTAMP:20260424T134717
CREATED:20250724T184214Z
LAST-MODIFIED:20250724T184520Z
UID:649-1753884000-1753902000@queer-steglitz-zehlendorf.de
SUMMARY:Q*lub Steglitz-Zehlendorf
DESCRIPTION:Offenes Treffen für Queere Jugendliche und Friends in Steglitz Zehlendorf.\nJeden Mittwoch treffen wir uns im Q*lub Raum in der Nähe des Rathaus Steglitz\, um gemeinsam kreativ zu sein\, abzuhängen\, sich auszutauschen oder Ausflüge zu planen. Die Aktivitäten werden gemeinsam als Gruppe festgelegt und richten sich nach euren Wünschen. Jeden Mittwoch von 14:00 – 19:00 Uhr. Meldet euch gerne bei Linda Lucy Hofmann per E-Mail: \nqlub@outreach.berlin \n\nZielgruppe: Queers & Allys \nSprachen: Deutsch & Englisch \n  \n\nVeranstaltungsort & Barrierefreiheit \n\nBeeinträchtigte Mobilität: \nRollstuhlgerechter Eingang \n\nGender: \nTIN* geschultes Personal\, Informationen in geschlechtersensibler Sprache \n 
URL:https://queer-steglitz-zehlendorf.de/termin/qlub-steglitz-zehlendorf/
LOCATION:JFE Flemming\, Paulsenstraße 22\, Berlin\, 12163\, Germany
CATEGORIES:Freizeit,Jugend
END:VEVENT
END:VCALENDAR